BEGIN:VCALENDAR
VERSION:2.0
PRODID:-//OLD WESTERN MARKET LLC. - ECPv6.15.20//NONSGML v1.0//EN
CALSCALE:GREGORIAN
METHOD:PUBLISH
X-ORIGINAL-URL:https://oldwesternmarket.com
X-WR-CALDESC:Events for OLD WESTERN MARKET LLC.
REFRESH-INTERVAL;VALUE=DURATION:PT1H
X-Robots-Tag:noindex
X-PUBLISHED-TTL:PT1H
BEGIN:VTIMEZONE
TZID:America/Halifax
BEGIN:DAYLIGHT
TZOFFSETFROM:-0400
TZOFFSETTO:-0300
TZNAME:ADT
DTSTART:20250309T060000
END:DAYLIGHT
BEGIN:STANDARD
TZOFFSETFROM:-0300
TZOFFSETTO:-0400
TZNAME:AST
DTSTART:20251102T050000
END:STANDARD
BEGIN:DAYLIGHT
TZOFFSETFROM:-0400
TZOFFSETTO:-0300
TZNAME:ADT
DTSTART:20260308T060000
END:DAYLIGHT
BEGIN:STANDARD
TZOFFSETFROM:-0300
TZOFFSETTO:-0400
TZNAME:AST
DTSTART:20261101T050000
END:STANDARD
BEGIN:DAYLIGHT
TZOFFSETFROM:-0400
TZOFFSETTO:-0300
TZNAME:ADT
DTSTART:20270314T060000
END:DAYLIGHT
BEGIN:STANDARD
TZOFFSETFROM:-0300
TZOFFSETTO:-0400
TZNAME:AST
DTSTART:20271107T050000
END:STANDARD
END:VTIMEZONE
BEGIN:VEVENT
DTSTART;TZID=America/Halifax:20260418T120000
DTEND;TZID=America/Halifax:20260418T150000
DTSTAMP:20260421T055751
CREATED:20251013T203711Z
LAST-MODIFIED:20251028T185807Z
UID:10001254-1776513600-1776524400@oldwesternmarket.com
SUMMARY:Market Open 12 Pm - 8pm
DESCRIPTION:
URL:https://oldwesternmarket.com/event/october-2/2026-04-18/
LOCATION:Market Open
END:VEVENT
BEGIN:VEVENT
DTSTART;TZID=America/Halifax:20260417T120000
DTEND;TZID=America/Halifax:20260417T150000
DTSTAMP:20260421T055751
CREATED:20251013T203711Z
LAST-MODIFIED:20251028T185807Z
UID:10001253-1776427200-1776438000@oldwesternmarket.com
SUMMARY:Market Open 12 Pm - 8pm
DESCRIPTION:
URL:https://oldwesternmarket.com/event/october-2/2026-04-17/
LOCATION:Market Open
END:VEVENT
BEGIN:VEVENT
DTSTART;TZID=America/Halifax:20260411T120000
DTEND;TZID=America/Halifax:20260411T150000
DTSTAMP:20260421T055751
CREATED:20251013T203711Z
LAST-MODIFIED:20251028T185807Z
UID:10001252-1775908800-1775919600@oldwesternmarket.com
SUMMARY:Market Open 12 Pm - 8pm
DESCRIPTION:
URL:https://oldwesternmarket.com/event/october-2/2026-04-11/
LOCATION:Market Open
END:VEVENT
BEGIN:VEVENT
DTSTART;TZID=America/Halifax:20260410T120000
DTEND;TZID=America/Halifax:20260410T150000
DTSTAMP:20260421T055751
CREATED:20251013T203711Z
LAST-MODIFIED:20251028T185807Z
UID:10001251-1775822400-1775833200@oldwesternmarket.com
SUMMARY:Market Open 12 Pm - 8pm
DESCRIPTION:
URL:https://oldwesternmarket.com/event/october-2/2026-04-10/
LOCATION:Market Open
END:VEVENT
BEGIN:VEVENT
DTSTART;TZID=America/Halifax:20260404T120000
DTEND;TZID=America/Halifax:20260404T150000
DTSTAMP:20260421T055751
CREATED:20251013T203711Z
LAST-MODIFIED:20251028T185807Z
UID:10001250-1775304000-1775314800@oldwesternmarket.com
SUMMARY:Market Open 12 Pm - 8pm
DESCRIPTION:
URL:https://oldwesternmarket.com/event/october-2/2026-04-04/
LOCATION:Market Open
END:VEVENT
BEGIN:VEVENT
DTSTART;TZID=America/Halifax:20260403T120000
DTEND;TZID=America/Halifax:20260403T150000
DTSTAMP:20260421T055751
CREATED:20251013T203711Z
LAST-MODIFIED:20251028T185807Z
UID:10001249-1775217600-1775228400@oldwesternmarket.com
SUMMARY:Market Open 12 Pm - 8pm
DESCRIPTION:
URL:https://oldwesternmarket.com/event/october-2/2026-04-03/
LOCATION:Market Open
END:VEVENT
BEGIN:VEVENT
DTSTART;TZID=America/Halifax:20260328T120000
DTEND;TZID=America/Halifax:20260328T150000
DTSTAMP:20260421T055751
CREATED:20251013T203711Z
LAST-MODIFIED:20251028T185807Z
UID:10001248-1774699200-1774710000@oldwesternmarket.com
SUMMARY:Market Open 12 Pm - 8pm
DESCRIPTION:
URL:https://oldwesternmarket.com/event/october-2/2026-03-28/
LOCATION:Market Open
END:VEVENT
BEGIN:VEVENT
DTSTART;TZID=America/Halifax:20260327T120000
DTEND;TZID=America/Halifax:20260327T150000
DTSTAMP:20260421T055751
CREATED:20251013T203711Z
LAST-MODIFIED:20251028T185807Z
UID:10001247-1774612800-1774623600@oldwesternmarket.com
SUMMARY:Market Open 12 Pm - 8pm
DESCRIPTION:
URL:https://oldwesternmarket.com/event/october-2/2026-03-27/
LOCATION:Market Open
END:VEVENT
BEGIN:VEVENT
DTSTART;TZID=America/Halifax:20260321T120000
DTEND;TZID=America/Halifax:20260321T150000
DTSTAMP:20260421T055751
CREATED:20251013T203711Z
LAST-MODIFIED:20251028T185807Z
UID:10001246-1774094400-1774105200@oldwesternmarket.com
SUMMARY:Market Open 12 Pm - 8pm
DESCRIPTION:
URL:https://oldwesternmarket.com/event/october-2/2026-03-21/
LOCATION:Market Open
END:VEVENT
BEGIN:VEVENT
DTSTART;TZID=America/Halifax:20260320T120000
DTEND;TZID=America/Halifax:20260320T150000
DTSTAMP:20260421T055751
CREATED:20251013T203711Z
LAST-MODIFIED:20251028T185807Z
UID:10001245-1774008000-1774018800@oldwesternmarket.com
SUMMARY:Market Open 12 Pm - 8pm
DESCRIPTION:
URL:https://oldwesternmarket.com/event/october-2/2026-03-20/
LOCATION:Market Open
END:VEVENT
BEGIN:VEVENT
DTSTART;TZID=America/Halifax:20260314T120000
DTEND;TZID=America/Halifax:20260314T150000
DTSTAMP:20260421T055751
CREATED:20251013T203711Z
LAST-MODIFIED:20251028T185807Z
UID:10001244-1773489600-1773500400@oldwesternmarket.com
SUMMARY:Market Open 12 Pm - 8pm
DESCRIPTION:
URL:https://oldwesternmarket.com/event/october-2/2026-03-14/
LOCATION:Market Open
END:VEVENT
BEGIN:VEVENT
DTSTART;TZID=America/Halifax:20260313T120000
DTEND;TZID=America/Halifax:20260313T150000
DTSTAMP:20260421T055751
CREATED:20251013T203711Z
LAST-MODIFIED:20251028T185807Z
UID:10001243-1773403200-1773414000@oldwesternmarket.com
SUMMARY:Market Open 12 Pm - 8pm
DESCRIPTION:
URL:https://oldwesternmarket.com/event/october-2/2026-03-13/
LOCATION:Market Open
END:VEVENT
BEGIN:VEVENT
DTSTART;TZID=America/Halifax:20260307T120000
DTEND;TZID=America/Halifax:20260307T150000
DTSTAMP:20260421T055751
CREATED:20251013T203711Z
LAST-MODIFIED:20251028T185807Z
UID:10001242-1772884800-1772895600@oldwesternmarket.com
SUMMARY:Market Open 12 Pm - 8pm
DESCRIPTION:
URL:https://oldwesternmarket.com/event/october-2/2026-03-07/
LOCATION:Market Open
END:VEVENT
BEGIN:VEVENT
DTSTART;TZID=America/Halifax:20260306T120000
DTEND;TZID=America/Halifax:20260306T150000
DTSTAMP:20260421T055751
CREATED:20251013T203711Z
LAST-MODIFIED:20251028T185807Z
UID:10001241-1772798400-1772809200@oldwesternmarket.com
SUMMARY:Market Open 12 Pm - 8pm
DESCRIPTION:
URL:https://oldwesternmarket.com/event/october-2/2026-03-06/
LOCATION:Market Open
END:VEVENT
BEGIN:VEVENT
DTSTART;TZID=America/Halifax:20260228T120000
DTEND;TZID=America/Halifax:20260228T150000
DTSTAMP:20260421T055751
CREATED:20251013T203711Z
LAST-MODIFIED:20251028T185807Z
UID:10001240-1772280000-1772290800@oldwesternmarket.com
SUMMARY:Market Open 12 Pm - 8pm
DESCRIPTION:
URL:https://oldwesternmarket.com/event/october-2/2026-02-28/
LOCATION:Market Open
END:VEVENT
BEGIN:VEVENT
DTSTART;TZID=America/Halifax:20260227T120000
DTEND;TZID=America/Halifax:20260227T150000
DTSTAMP:20260421T055751
CREATED:20251013T203711Z
LAST-MODIFIED:20251028T185807Z
UID:10001239-1772193600-1772204400@oldwesternmarket.com
SUMMARY:Market Open 12 Pm - 8pm
DESCRIPTION:
URL:https://oldwesternmarket.com/event/october-2/2026-02-27/
LOCATION:Market Open
END:VEVENT
BEGIN:VEVENT
DTSTART;TZID=America/Halifax:20260221T120000
DTEND;TZID=America/Halifax:20260221T150000
DTSTAMP:20260421T055751
CREATED:20251013T203711Z
LAST-MODIFIED:20251028T185807Z
UID:10001238-1771675200-1771686000@oldwesternmarket.com
SUMMARY:Market Open 12 Pm - 8pm
DESCRIPTION:
URL:https://oldwesternmarket.com/event/october-2/2026-02-21/
LOCATION:Market Open
END:VEVENT
BEGIN:VEVENT
DTSTART;TZID=America/Halifax:20260220T120000
DTEND;TZID=America/Halifax:20260220T150000
DTSTAMP:20260421T055751
CREATED:20251013T203711Z
LAST-MODIFIED:20251028T185807Z
UID:10001237-1771588800-1771599600@oldwesternmarket.com
SUMMARY:Market Open 12 Pm - 8pm
DESCRIPTION:
URL:https://oldwesternmarket.com/event/october-2/2026-02-20/
LOCATION:Market Open
END:VEVENT
BEGIN:VEVENT
DTSTART;TZID=America/Halifax:20260214T120000
DTEND;TZID=America/Halifax:20260214T150000
DTSTAMP:20260421T055751
CREATED:20251013T203711Z
LAST-MODIFIED:20251028T185807Z
UID:10001236-1771070400-1771081200@oldwesternmarket.com
SUMMARY:Market Open 12 Pm - 8pm
DESCRIPTION:
URL:https://oldwesternmarket.com/event/october-2/2026-02-14/
LOCATION:Market Open
END:VEVENT
BEGIN:VEVENT
DTSTART;TZID=America/Halifax:20260213T120000
DTEND;TZID=America/Halifax:20260213T150000
DTSTAMP:20260421T055751
CREATED:20251013T203711Z
LAST-MODIFIED:20251028T185807Z
UID:10001235-1770984000-1770994800@oldwesternmarket.com
SUMMARY:Market Open 12 Pm - 8pm
DESCRIPTION:
URL:https://oldwesternmarket.com/event/october-2/2026-02-13/
LOCATION:Market Open
END:VEVENT
BEGIN:VEVENT
DTSTART;TZID=America/Halifax:20260207T120000
DTEND;TZID=America/Halifax:20260207T150000
DTSTAMP:20260421T055751
CREATED:20251013T203711Z
LAST-MODIFIED:20251028T185807Z
UID:10001234-1770465600-1770476400@oldwesternmarket.com
SUMMARY:Market Open 12 Pm - 8pm
DESCRIPTION:
URL:https://oldwesternmarket.com/event/october-2/2026-02-07/
LOCATION:Market Open
END:VEVENT
BEGIN:VEVENT
DTSTART;TZID=America/Halifax:20260206T120000
DTEND;TZID=America/Halifax:20260206T150000
DTSTAMP:20260421T055751
CREATED:20251013T203711Z
LAST-MODIFIED:20251028T185807Z
UID:10001233-1770379200-1770390000@oldwesternmarket.com
SUMMARY:Market Open 12 Pm - 8pm
DESCRIPTION:
URL:https://oldwesternmarket.com/event/october-2/2026-02-06/
LOCATION:Market Open
END:VEVENT
BEGIN:VEVENT
DTSTART;TZID=America/Halifax:20260131T120000
DTEND;TZID=America/Halifax:20260131T150000
DTSTAMP:20260421T055751
CREATED:20251013T203711Z
LAST-MODIFIED:20251028T185807Z
UID:10001232-1769860800-1769871600@oldwesternmarket.com
SUMMARY:Market Open 12 Pm - 8pm
DESCRIPTION:
URL:https://oldwesternmarket.com/event/october-2/2026-01-31/
LOCATION:Market Open
END:VEVENT
BEGIN:VEVENT
DTSTART;TZID=America/Halifax:20260130T120000
DTEND;TZID=America/Halifax:20260130T150000
DTSTAMP:20260421T055751
CREATED:20251013T203711Z
LAST-MODIFIED:20251028T185807Z
UID:10001231-1769774400-1769785200@oldwesternmarket.com
SUMMARY:Market Open 12 Pm - 8pm
DESCRIPTION:
URL:https://oldwesternmarket.com/event/october-2/2026-01-30/
LOCATION:Market Open
END:VEVENT
BEGIN:VEVENT
DTSTART;TZID=America/Halifax:20260124T120000
DTEND;TZID=America/Halifax:20260124T150000
DTSTAMP:20260421T055751
CREATED:20251013T203711Z
LAST-MODIFIED:20251028T185807Z
UID:10001230-1769256000-1769266800@oldwesternmarket.com
SUMMARY:Market Open 12 Pm - 8pm
DESCRIPTION:
URL:https://oldwesternmarket.com/event/october-2/2026-01-24/
LOCATION:Market Open
END:VEVENT
BEGIN:VEVENT
DTSTART;TZID=America/Halifax:20260123T120000
DTEND;TZID=America/Halifax:20260123T150000
DTSTAMP:20260421T055751
CREATED:20251013T203711Z
LAST-MODIFIED:20251028T185807Z
UID:10001229-1769169600-1769180400@oldwesternmarket.com
SUMMARY:Market Open 12 Pm - 8pm
DESCRIPTION:
URL:https://oldwesternmarket.com/event/october-2/2026-01-23/
LOCATION:Market Open
END:VEVENT
BEGIN:VEVENT
DTSTART;TZID=America/Halifax:20260117T120000
DTEND;TZID=America/Halifax:20260117T150000
DTSTAMP:20260421T055751
CREATED:20251013T203711Z
LAST-MODIFIED:20251028T185807Z
UID:10001228-1768651200-1768662000@oldwesternmarket.com
SUMMARY:Market Open 12 Pm - 8pm
DESCRIPTION:
URL:https://oldwesternmarket.com/event/october-2/2026-01-17/
LOCATION:Market Open
END:VEVENT
BEGIN:VEVENT
DTSTART;TZID=America/Halifax:20260116T120000
DTEND;TZID=America/Halifax:20260116T150000
DTSTAMP:20260421T055751
CREATED:20251013T203711Z
LAST-MODIFIED:20251028T185807Z
UID:10001227-1768564800-1768575600@oldwesternmarket.com
SUMMARY:Market Open 12 Pm - 8pm
DESCRIPTION:
URL:https://oldwesternmarket.com/event/october-2/2026-01-16/
LOCATION:Market Open
END:VEVENT
BEGIN:VEVENT
DTSTART;TZID=America/Halifax:20260110T120000
DTEND;TZID=America/Halifax:20260110T150000
DTSTAMP:20260421T055751
CREATED:20251013T203711Z
LAST-MODIFIED:20251028T185807Z
UID:10001226-1768046400-1768057200@oldwesternmarket.com
SUMMARY:Market Open 12 Pm - 8pm
DESCRIPTION:
URL:https://oldwesternmarket.com/event/october-2/2026-01-10/
LOCATION:Market Open
END:VEVENT
BEGIN:VEVENT
DTSTART;TZID=America/Halifax:20260109T120000
DTEND;TZID=America/Halifax:20260109T150000
DTSTAMP:20260421T055751
CREATED:20251013T203711Z
LAST-MODIFIED:20251028T185807Z
UID:10001225-1767960000-1767970800@oldwesternmarket.com
SUMMARY:Market Open 12 Pm - 8pm
DESCRIPTION:
URL:https://oldwesternmarket.com/event/october-2/2026-01-09/
LOCATION:Market Open
END:VEVENT
END:VCALENDAR