BEGIN:VCALENDAR
VERSION:2.0
PRODID:-//OLD WESTERN MARKET LLC. - ECPv6.15.20//NONSGML v1.0//EN
CALSCALE:GREGORIAN
METHOD:PUBLISH
X-WR-CALNAME:OLD WESTERN MARKET LLC.
X-ORIGINAL-URL:https://oldwesternmarket.com
X-WR-CALDESC:Events for OLD WESTERN MARKET LLC.
REFRESH-INTERVAL;VALUE=DURATION:PT1H
X-Robots-Tag:noindex
X-PUBLISHED-TTL:PT1H
BEGIN:VTIMEZONE
TZID:America/Halifax
BEGIN:DAYLIGHT
TZOFFSETFROM:-0400
TZOFFSETTO:-0300
TZNAME:ADT
DTSTART:20250309T060000
END:DAYLIGHT
BEGIN:STANDARD
TZOFFSETFROM:-0300
TZOFFSETTO:-0400
TZNAME:AST
DTSTART:20251102T050000
END:STANDARD
BEGIN:DAYLIGHT
TZOFFSETFROM:-0400
TZOFFSETTO:-0300
TZNAME:ADT
DTSTART:20260308T060000
END:DAYLIGHT
BEGIN:STANDARD
TZOFFSETFROM:-0300
TZOFFSETTO:-0400
TZNAME:AST
DTSTART:20261101T050000
END:STANDARD
BEGIN:DAYLIGHT
TZOFFSETFROM:-0400
TZOFFSETTO:-0300
TZNAME:ADT
DTSTART:20270314T060000
END:DAYLIGHT
BEGIN:STANDARD
TZOFFSETFROM:-0300
TZOFFSETTO:-0400
TZNAME:AST
DTSTART:20271107T050000
END:STANDARD
END:VTIMEZONE
BEGIN:VEVENT
DTSTART;TZID=America/Halifax:20260424T120000
DTEND;TZID=America/Halifax:20260424T150000
DTSTAMP:20260421T060612
CREATED:20251013T203711Z
LAST-MODIFIED:20251028T185807Z
UID:10001255-1777032000-1777042800@oldwesternmarket.com
SUMMARY:Market Open 12 Pm - 8pm
DESCRIPTION:
URL:https://oldwesternmarket.com/event/october-2/2026-04-24/
LOCATION:Market Open
END:VEVENT
BEGIN:VEVENT
DTSTART;TZID=America/Halifax:20260425T120000
DTEND;TZID=America/Halifax:20260425T150000
DTSTAMP:20260421T060612
CREATED:20251013T203711Z
LAST-MODIFIED:20251028T185807Z
UID:10001256-1777118400-1777129200@oldwesternmarket.com
SUMMARY:Market Open 12 Pm - 8pm
DESCRIPTION:
URL:https://oldwesternmarket.com/event/october-2/2026-04-25/
LOCATION:Market Open
END:VEVENT
BEGIN:VEVENT
DTSTART;TZID=America/Halifax:20260501T120000
DTEND;TZID=America/Halifax:20260501T150000
DTSTAMP:20260421T060612
CREATED:20251013T203711Z
LAST-MODIFIED:20251028T185807Z
UID:10001257-1777636800-1777647600@oldwesternmarket.com
SUMMARY:Market Open 12 Pm - 8pm
DESCRIPTION:
URL:https://oldwesternmarket.com/event/october-2/2026-05-01/
LOCATION:Market Open
END:VEVENT
BEGIN:VEVENT
DTSTART;TZID=America/Halifax:20260502T120000
DTEND;TZID=America/Halifax:20260502T150000
DTSTAMP:20260421T060612
CREATED:20251013T203711Z
LAST-MODIFIED:20251028T185807Z
UID:10001258-1777723200-1777734000@oldwesternmarket.com
SUMMARY:Market Open 12 Pm - 8pm
DESCRIPTION:
URL:https://oldwesternmarket.com/event/october-2/2026-05-02/
LOCATION:Market Open
END:VEVENT
BEGIN:VEVENT
DTSTART;TZID=America/Halifax:20260508T120000
DTEND;TZID=America/Halifax:20260508T150000
DTSTAMP:20260421T060612
CREATED:20251013T203711Z
LAST-MODIFIED:20251028T185807Z
UID:10001259-1778241600-1778252400@oldwesternmarket.com
SUMMARY:Market Open 12 Pm - 8pm
DESCRIPTION:
URL:https://oldwesternmarket.com/event/october-2/2026-05-08/
LOCATION:Market Open
END:VEVENT
BEGIN:VEVENT
DTSTART;TZID=America/Halifax:20260509T120000
DTEND;TZID=America/Halifax:20260509T150000
DTSTAMP:20260421T060612
CREATED:20251013T203711Z
LAST-MODIFIED:20251028T185807Z
UID:10001260-1778328000-1778338800@oldwesternmarket.com
SUMMARY:Market Open 12 Pm - 8pm
DESCRIPTION:
URL:https://oldwesternmarket.com/event/october-2/2026-05-09/
LOCATION:Market Open
END:VEVENT
BEGIN:VEVENT
DTSTART;TZID=America/Halifax:20260515T120000
DTEND;TZID=America/Halifax:20260515T150000
DTSTAMP:20260421T060612
CREATED:20251013T203711Z
LAST-MODIFIED:20251028T185807Z
UID:10001261-1778846400-1778857200@oldwesternmarket.com
SUMMARY:Market Open 12 Pm - 8pm
DESCRIPTION:
URL:https://oldwesternmarket.com/event/october-2/2026-05-15/
LOCATION:Market Open
END:VEVENT
BEGIN:VEVENT
DTSTART;TZID=America/Halifax:20260516T120000
DTEND;TZID=America/Halifax:20260516T150000
DTSTAMP:20260421T060612
CREATED:20251013T203711Z
LAST-MODIFIED:20251028T185807Z
UID:10001262-1778932800-1778943600@oldwesternmarket.com
SUMMARY:Market Open 12 Pm - 8pm
DESCRIPTION:
URL:https://oldwesternmarket.com/event/october-2/2026-05-16/
LOCATION:Market Open
END:VEVENT
BEGIN:VEVENT
DTSTART;TZID=America/Halifax:20260522T120000
DTEND;TZID=America/Halifax:20260522T150000
DTSTAMP:20260421T060612
CREATED:20251013T203711Z
LAST-MODIFIED:20251028T185807Z
UID:10001263-1779451200-1779462000@oldwesternmarket.com
SUMMARY:Market Open 12 Pm - 8pm
DESCRIPTION:
URL:https://oldwesternmarket.com/event/october-2/2026-05-22/
LOCATION:Market Open
END:VEVENT
BEGIN:VEVENT
DTSTART;TZID=America/Halifax:20260523T120000
DTEND;TZID=America/Halifax:20260523T150000
DTSTAMP:20260421T060612
CREATED:20251013T203711Z
LAST-MODIFIED:20251028T185807Z
UID:10001264-1779537600-1779548400@oldwesternmarket.com
SUMMARY:Market Open 12 Pm - 8pm
DESCRIPTION:
URL:https://oldwesternmarket.com/event/october-2/2026-05-23/
LOCATION:Market Open
END:VEVENT
BEGIN:VEVENT
DTSTART;TZID=America/Halifax:20260529T120000
DTEND;TZID=America/Halifax:20260529T150000
DTSTAMP:20260421T060612
CREATED:20251013T203711Z
LAST-MODIFIED:20251028T185807Z
UID:10001265-1780056000-1780066800@oldwesternmarket.com
SUMMARY:Market Open 12 Pm - 8pm
DESCRIPTION:
URL:https://oldwesternmarket.com/event/october-2/2026-05-29/
LOCATION:Market Open
END:VEVENT
BEGIN:VEVENT
DTSTART;TZID=America/Halifax:20260530T120000
DTEND;TZID=America/Halifax:20260530T150000
DTSTAMP:20260421T060612
CREATED:20251013T203711Z
LAST-MODIFIED:20251028T185807Z
UID:10001266-1780142400-1780153200@oldwesternmarket.com
SUMMARY:Market Open 12 Pm - 8pm
DESCRIPTION:
URL:https://oldwesternmarket.com/event/october-2/2026-05-30/
LOCATION:Market Open
END:VEVENT
BEGIN:VEVENT
DTSTART;TZID=America/Halifax:20260605T120000
DTEND;TZID=America/Halifax:20260605T150000
DTSTAMP:20260421T060612
CREATED:20251013T203711Z
LAST-MODIFIED:20251028T185807Z
UID:10001267-1780660800-1780671600@oldwesternmarket.com
SUMMARY:Market Open 12 Pm - 8pm
DESCRIPTION:
URL:https://oldwesternmarket.com/event/october-2/2026-06-05/
LOCATION:Market Open
END:VEVENT
BEGIN:VEVENT
DTSTART;TZID=America/Halifax:20260606T120000
DTEND;TZID=America/Halifax:20260606T150000
DTSTAMP:20260421T060612
CREATED:20251013T203711Z
LAST-MODIFIED:20251028T185807Z
UID:10001268-1780747200-1780758000@oldwesternmarket.com
SUMMARY:Market Open 12 Pm - 8pm
DESCRIPTION:
URL:https://oldwesternmarket.com/event/october-2/2026-06-06/
LOCATION:Market Open
END:VEVENT
BEGIN:VEVENT
DTSTART;TZID=America/Halifax:20260612T120000
DTEND;TZID=America/Halifax:20260612T150000
DTSTAMP:20260421T060612
CREATED:20251013T203711Z
LAST-MODIFIED:20251028T185807Z
UID:10001269-1781265600-1781276400@oldwesternmarket.com
SUMMARY:Market Open 12 Pm - 8pm
DESCRIPTION:
URL:https://oldwesternmarket.com/event/october-2/2026-06-12/
LOCATION:Market Open
END:VEVENT
BEGIN:VEVENT
DTSTART;TZID=America/Halifax:20260613T120000
DTEND;TZID=America/Halifax:20260613T150000
DTSTAMP:20260421T060612
CREATED:20251013T203711Z
LAST-MODIFIED:20251028T185807Z
UID:10001270-1781352000-1781362800@oldwesternmarket.com
SUMMARY:Market Open 12 Pm - 8pm
DESCRIPTION:
URL:https://oldwesternmarket.com/event/october-2/2026-06-13/
LOCATION:Market Open
END:VEVENT
BEGIN:VEVENT
DTSTART;TZID=America/Halifax:20260619T120000
DTEND;TZID=America/Halifax:20260619T150000
DTSTAMP:20260421T060612
CREATED:20251013T203711Z
LAST-MODIFIED:20251028T185807Z
UID:10001271-1781870400-1781881200@oldwesternmarket.com
SUMMARY:Market Open 12 Pm - 8pm
DESCRIPTION:
URL:https://oldwesternmarket.com/event/october-2/2026-06-19/
LOCATION:Market Open
END:VEVENT
BEGIN:VEVENT
DTSTART;TZID=America/Halifax:20260620T120000
DTEND;TZID=America/Halifax:20260620T150000
DTSTAMP:20260421T060612
CREATED:20251013T203711Z
LAST-MODIFIED:20251028T185807Z
UID:10001272-1781956800-1781967600@oldwesternmarket.com
SUMMARY:Market Open 12 Pm - 8pm
DESCRIPTION:
URL:https://oldwesternmarket.com/event/october-2/2026-06-20/
LOCATION:Market Open
END:VEVENT
BEGIN:VEVENT
DTSTART;TZID=America/Halifax:20260626T120000
DTEND;TZID=America/Halifax:20260626T150000
DTSTAMP:20260421T060612
CREATED:20251013T203711Z
LAST-MODIFIED:20251028T185807Z
UID:10001273-1782475200-1782486000@oldwesternmarket.com
SUMMARY:Market Open 12 Pm - 8pm
DESCRIPTION:
URL:https://oldwesternmarket.com/event/october-2/2026-06-26/
LOCATION:Market Open
END:VEVENT
BEGIN:VEVENT
DTSTART;TZID=America/Halifax:20260627T120000
DTEND;TZID=America/Halifax:20260627T150000
DTSTAMP:20260421T060612
CREATED:20251013T203711Z
LAST-MODIFIED:20251028T185807Z
UID:10001274-1782561600-1782572400@oldwesternmarket.com
SUMMARY:Market Open 12 Pm - 8pm
DESCRIPTION:
URL:https://oldwesternmarket.com/event/october-2/2026-06-27/
LOCATION:Market Open
END:VEVENT
BEGIN:VEVENT
DTSTART;TZID=America/Halifax:20260703T120000
DTEND;TZID=America/Halifax:20260703T150000
DTSTAMP:20260421T060612
CREATED:20251013T203711Z
LAST-MODIFIED:20251028T185807Z
UID:10001275-1783080000-1783090800@oldwesternmarket.com
SUMMARY:Market Open 12 Pm - 8pm
DESCRIPTION:
URL:https://oldwesternmarket.com/event/october-2/2026-07-03/
LOCATION:Market Open
END:VEVENT
BEGIN:VEVENT
DTSTART;TZID=America/Halifax:20260704T120000
DTEND;TZID=America/Halifax:20260704T150000
DTSTAMP:20260421T060612
CREATED:20251013T203711Z
LAST-MODIFIED:20251028T185807Z
UID:10001276-1783166400-1783177200@oldwesternmarket.com
SUMMARY:Market Open 12 Pm - 8pm
DESCRIPTION:
URL:https://oldwesternmarket.com/event/october-2/2026-07-04/
LOCATION:Market Open
END:VEVENT
BEGIN:VEVENT
DTSTART;TZID=America/Halifax:20260710T120000
DTEND;TZID=America/Halifax:20260710T150000
DTSTAMP:20260421T060613
CREATED:20251013T203711Z
LAST-MODIFIED:20251028T185807Z
UID:10001277-1783684800-1783695600@oldwesternmarket.com
SUMMARY:Market Open 12 Pm - 8pm
DESCRIPTION:
URL:https://oldwesternmarket.com/event/october-2/2026-07-10/
LOCATION:Market Open
END:VEVENT
BEGIN:VEVENT
DTSTART;TZID=America/Halifax:20260711T120000
DTEND;TZID=America/Halifax:20260711T150000
DTSTAMP:20260421T060613
CREATED:20251013T203711Z
LAST-MODIFIED:20251028T185807Z
UID:10001278-1783771200-1783782000@oldwesternmarket.com
SUMMARY:Market Open 12 Pm - 8pm
DESCRIPTION:
URL:https://oldwesternmarket.com/event/october-2/2026-07-11/
LOCATION:Market Open
END:VEVENT
BEGIN:VEVENT
DTSTART;TZID=America/Halifax:20260717T120000
DTEND;TZID=America/Halifax:20260717T150000
DTSTAMP:20260421T060613
CREATED:20251013T203711Z
LAST-MODIFIED:20251028T185807Z
UID:10001279-1784289600-1784300400@oldwesternmarket.com
SUMMARY:Market Open 12 Pm - 8pm
DESCRIPTION:
URL:https://oldwesternmarket.com/event/october-2/2026-07-17/
LOCATION:Market Open
END:VEVENT
BEGIN:VEVENT
DTSTART;TZID=America/Halifax:20260718T120000
DTEND;TZID=America/Halifax:20260718T150000
DTSTAMP:20260421T060613
CREATED:20251013T203711Z
LAST-MODIFIED:20251028T185807Z
UID:10001280-1784376000-1784386800@oldwesternmarket.com
SUMMARY:Market Open 12 Pm - 8pm
DESCRIPTION:
URL:https://oldwesternmarket.com/event/october-2/2026-07-18/
LOCATION:Market Open
END:VEVENT
BEGIN:VEVENT
DTSTART;TZID=America/Halifax:20260724T120000
DTEND;TZID=America/Halifax:20260724T150000
DTSTAMP:20260421T060613
CREATED:20251013T203711Z
LAST-MODIFIED:20251028T185807Z
UID:10001281-1784894400-1784905200@oldwesternmarket.com
SUMMARY:Market Open 12 Pm - 8pm
DESCRIPTION:
URL:https://oldwesternmarket.com/event/october-2/2026-07-24/
LOCATION:Market Open
END:VEVENT
BEGIN:VEVENT
DTSTART;TZID=America/Halifax:20260725T120000
DTEND;TZID=America/Halifax:20260725T150000
DTSTAMP:20260421T060613
CREATED:20251013T203711Z
LAST-MODIFIED:20251028T185807Z
UID:10001282-1784980800-1784991600@oldwesternmarket.com
SUMMARY:Market Open 12 Pm - 8pm
DESCRIPTION:
URL:https://oldwesternmarket.com/event/october-2/2026-07-25/
LOCATION:Market Open
END:VEVENT
BEGIN:VEVENT
DTSTART;TZID=America/Halifax:20260731T120000
DTEND;TZID=America/Halifax:20260731T150000
DTSTAMP:20260421T060613
CREATED:20251013T203711Z
LAST-MODIFIED:20251028T185807Z
UID:10001283-1785499200-1785510000@oldwesternmarket.com
SUMMARY:Market Open 12 Pm - 8pm
DESCRIPTION:
URL:https://oldwesternmarket.com/event/october-2/2026-07-31/
LOCATION:Market Open
END:VEVENT
BEGIN:VEVENT
DTSTART;TZID=America/Halifax:20260801T120000
DTEND;TZID=America/Halifax:20260801T150000
DTSTAMP:20260421T060613
CREATED:20251013T203711Z
LAST-MODIFIED:20251028T185807Z
UID:10001284-1785585600-1785596400@oldwesternmarket.com
SUMMARY:Market Open 12 Pm - 8pm
DESCRIPTION:
URL:https://oldwesternmarket.com/event/october-2/2026-08-01/
LOCATION:Market Open
END:VEVENT
END:VCALENDAR